BEGIN:VCALENDAR
VERSION:2.0
PRODID:-//www.dsamidlands.org//NONSGML kigkonsult.se iCalcreator 2.30.10//
CALSCALE:GREGORIAN
METHOD:PUBLISH
UID:3282db5c-b707-42ad-bc3a-f99937278fe4
X-WR-CALDESC:Grab the mic and get ready to shine at Teens Connect Karaoke N
 ight at Blue Sky!\nIt’s time for our teen members to belt out their favori
 te hits\, cheer each other on\, and share plenty of laughs along the way. 
 Whether you’re a pop star in the making or just in it for the fun\, this n
 ight is all about music\, confidence\, and great vibes!
X-WR-RELCALID:ef615fcfde2aa9f8352cbade3a1709ca
X-WR-TIMEZONE:America/Chicago
BEGIN:VTIMEZONE
TZID:America/Chicago
BEGIN:STANDARD
TZNAME:CST
DTSTART:20251102T020000
TZOFFSETFROM:-0500
TZOFFSETTO:-0600
RDATE:20261101T020000
END:STANDARD
BEGIN:DAYLIGHT
TZNAME:CDT
DTSTART:20250309T020000
TZOFFSETFROM:-0600
TZOFFSETTO:-0500
RDATE:20260308T020000
RDATE:20270314T020000
END:DAYLIGHT
END:VTIMEZONE
BEGIN:VEVENT
UID:34c7a66e-db00-4419-adb5-9369b7708dcd
DTSTAMP:20260421T155239Z
DESCRIPTION:Grab the mic and get ready to shine at Teens Connect Karaoke Ni
 ght at Blue Sky!\nIt’s time for our teen members to belt out their favorit
 e hits\, cheer each other on\, and share plenty of laughs along the way. W
 hether you’re a pop star in the making or just in it for the fun\, this ni
 ght is all about music\, confidence\, and great vibes!
DTSTART;TZID=America/Chicago:20260225T173000
DTEND;TZID=America/Chicago:20260225T190000
LOCATION:https://secure.lglforms.com/form_engine/s/muko94yQ8Gd5OeirYyZhdQ
SUMMARY:Teens Connect Karaoke
END:VEVENT
END:VCALENDAR
