BEGIN:VCALENDAR
VERSION:2.0
PRODID:-//www.dsamidlands.org//NONSGML kigkonsult.se iCalcreator 2.30.10//
CALSCALE:GREGORIAN
METHOD:PUBLISH
UID:308575e9-75a3-47eb-a6e8-b268c6f026c1
X-WR-CALDESC:Join us for a fun night of music bingo!  \n\nLocation:\nSpin! 
 Pizza\, 17520 Wright Street Suite 101!  7:00-8:30 PM\n\nThis event is free
  for DSA members. Snacks will be provided but other food and beverages are
  available for purchase at this event.  \n\nFor questions\, please email D
 eb Madden at madden@dsamidlands.org
X-WR-RELCALID:92307ad0e3fe06b547354978ffea33c3
X-WR-TIMEZONE:America/Chicago
BEGIN:VTIMEZONE
TZID:America/Chicago
BEGIN:STANDARD
TZNAME:CST
DTSTART:20251102T020000
TZOFFSETFROM:-0500
TZOFFSETTO:-0600
RDATE:20261101T020000
END:STANDARD
BEGIN:DAYLIGHT
TZNAME:CDT
DTSTART:20250309T020000
TZOFFSETFROM:-0600
TZOFFSETTO:-0500
RDATE:20260308T020000
RDATE:20270314T020000
END:DAYLIGHT
END:VTIMEZONE
BEGIN:VEVENT
UID:3a9c9652-2a35-4df5-bb02-6778cbd40a35
DTSTAMP:20260421T155454Z
DESCRIPTION:Join us for a fun night of music bingo!  \n\nLocation:\nSpin! P
 izza\, 17520 Wright Street Suite 101!  7:00-8:30 PM\n\nThis event is free 
 for DSA members. Snacks will be provided but other food and beverages are 
 available for purchase at this event.  \n\nFor questions\, please email De
 b Madden at madden@dsamidlands.org
DTSTART;TZID=America/Chicago:20260224T190000
DTEND;TZID=America/Chicago:20260224T203000
LOCATION:https://secure.lglforms.com/form_engine/s/L7f7W3L3lB6dblAobaH3ig
SUMMARY:Adults Connect 19+ Music Bingo
END:VEVENT
END:VCALENDAR
