BEGIN:VCALENDAR
VERSION:2.0
PRODID:-//www.dsamidlands.org//NONSGML kigkonsult.se iCalcreator 2.30.10//
CALSCALE:GREGORIAN
METHOD:PUBLISH
UID:f0189323-9a30-4d3e-aa49-469c7a0b8409
X-WR-CALDESC:Home Smart helps teens practice real-life home skills so they 
 can feel more confident\, capable\, and independent.
X-WR-RELCALID:4a150c99b7b9546cb083dfbecb82335e
X-WR-TIMEZONE:America/Chicago
BEGIN:VTIMEZONE
TZID:America/Chicago
BEGIN:STANDARD
TZNAME:CST
DTSTART:20251102T020000
TZOFFSETFROM:-0500
TZOFFSETTO:-0600
RDATE:20261101T020000
END:STANDARD
BEGIN:DAYLIGHT
TZNAME:CDT
DTSTART:20250309T020000
TZOFFSETFROM:-0600
TZOFFSETTO:-0500
RDATE:20260308T020000
RDATE:20270314T020000
END:DAYLIGHT
END:VTIMEZONE
BEGIN:VEVENT
UID:e6ac73ff-f822-4ae3-bf8f-4bafde08f006
DTSTAMP:20260421T160027Z
DESCRIPTION:Home Smart helps teens practice real-life home skills so they c
 an feel more confident\, capable\, and independent.
DTSTART;TZID=America/Chicago:20260219T163000
DTEND;TZID=America/Chicago:20260219T173000
LOCATION:10824 Old Mill Rd. Suite 8\, Omaha \, NE 68154 US
SUMMARY:Home Smart: Real-Life Skills for Growing Independence - Canceled
END:VEVENT
END:VCALENDAR
