BEGIN:VCALENDAR
VERSION:2.0
PRODID:-//www.dsamidlands.org//NONSGML kigkonsult.se iCalcreator 2.30.10//
CALSCALE:GREGORIAN
METHOD:PUBLISH
UID:f35adb8f-3f30-4b64-9849-9a5b95cc2bf6
X-WR-CALDESC:Join other moms for coffee\, conversation\, and great connecti
 ons! We are excited to see you on Saturday\, February 14th from 9:30-11:00
  a.m. Location to be announced soon!
X-WR-RELCALID:3a4da341f805cd577b3719be12728b23
X-WR-TIMEZONE:America/Chicago
BEGIN:VTIMEZONE
TZID:America/Chicago
BEGIN:STANDARD
TZNAME:CST
DTSTART:20251102T020000
TZOFFSETFROM:-0500
TZOFFSETTO:-0600
RDATE:20261101T020000
END:STANDARD
BEGIN:DAYLIGHT
TZNAME:CDT
DTSTART:20250309T020000
TZOFFSETFROM:-0600
TZOFFSETTO:-0500
RDATE:20260308T020000
RDATE:20270314T020000
END:DAYLIGHT
END:VTIMEZONE
BEGIN:VEVENT
UID:681b318a-e698-4cf1-b3d9-10bb33a64e10
DTSTAMP:20260421T155318Z
DESCRIPTION:Join other moms for coffee\, conversation\, and great connectio
 ns! We are excited to see you on Saturday\, February 14th from 9:30-11:00 
 a.m. Location to be announced soon!
DTSTART;TZID=America/Chicago:20260214T050000
DTEND;TZID=America/Chicago:20260214T050001
LOCATION:
SUMMARY:DSA Moms Coffee Connections
END:VEVENT
END:VCALENDAR
