BEGIN:VCALENDAR
VERSION:2.0
PRODID:-//www.dsamidlands.org//NONSGML kigkonsult.se iCalcreator 2.30.10//
CALSCALE:GREGORIAN
METHOD:PUBLISH
UID:b7d22ae4-d980-41c5-b56b-990b9bae56bc
X-WR-CALDESC:Home Smart helps teens practice real-life home skills so they 
 can feel more confident\, capable\, and independent.
X-WR-RELCALID:d4b01cdef0a3cb65309bca87995af457
X-WR-TIMEZONE:America/Chicago
BEGIN:VTIMEZONE
TZID:America/Chicago
BEGIN:STANDARD
TZNAME:CST
DTSTART:20251102T020000
TZOFFSETFROM:-0500
TZOFFSETTO:-0600
RDATE:20261101T020000
END:STANDARD
BEGIN:DAYLIGHT
TZNAME:CDT
DTSTART:20250309T020000
TZOFFSETFROM:-0600
TZOFFSETTO:-0500
RDATE:20260308T020000
RDATE:20270314T020000
END:DAYLIGHT
END:VTIMEZONE
BEGIN:VEVENT
UID:e536d4aa-2276-44be-a82b-6ec737e9a256
DTSTAMP:20260421T160004Z
DESCRIPTION:Home Smart helps teens practice real-life home skills so they c
 an feel more confident\, capable\, and independent.
DTSTART;TZID=America/Chicago:20260212T163000
DTEND;TZID=America/Chicago:20260212T173000
LOCATION:10824 Old Mill Rd. Suite 8\, Omaha\, NE 68154 US
SUMMARY:Home Smart: Real-Life Skills for Growing Independence
END:VEVENT
END:VCALENDAR
