BEGIN:VCALENDAR
VERSION:2.0
PRODID:-//www.dsamidlands.org//NONSGML kigkonsult.se iCalcreator 2.30.10//
CALSCALE:GREGORIAN
METHOD:PUBLISH
UID:4a07e190-115d-4f17-a4db-80e0c865d4d6
X-WR-CALDESC:
X-WR-RELCALID:bf1214ff38e8abb9e2d7ef095a0fa16a
X-WR-TIMEZONE:America/Chicago
BEGIN:VTIMEZONE
TZID:America/Chicago
BEGIN:STANDARD
TZNAME:CST
DTSTART:20251102T020000
TZOFFSETFROM:-0500
TZOFFSETTO:-0600
RDATE:20261101T020000
END:STANDARD
BEGIN:DAYLIGHT
TZNAME:CDT
DTSTART:20250309T020000
TZOFFSETFROM:-0600
TZOFFSETTO:-0500
RDATE:20260308T020000
RDATE:20270314T020000
END:DAYLIGHT
END:VTIMEZONE
BEGIN:VEVENT
UID:c258f821-62d4-42dc-8a82-d9f44898460b
DTSTAMP:20260421T155428Z
DESCRIPTION:
DTSTART;TZID=America/Chicago:20260211T173000
DTEND;TZID=America/Chicago:20260211T190000
LOCATION:https://secure.lglforms.com/form_engine/s/Gyphf1s9Ql2UerNUMgLOOg
SUMMARY:Kids Connect 3rd - 5th Grade
END:VEVENT
END:VCALENDAR
