BEGIN:VCALENDAR
VERSION:2.0
PRODID:-//www.dsamidlands.org//NONSGML kigkonsult.se iCalcreator 2.30.10//
CALSCALE:GREGORIAN
METHOD:PUBLISH
UID:9c14c496-5a8d-4b95-b4e6-187cde4fb79f
X-WR-CALDESC:Our Breakfast Club for 6th-12th graders.  Students will get to
  enjoy breakfast with friends\, learn practical skills like ordering and p
 aying for their meal\, and have a blast with some games.\n(Parents will ca
 n enjoy breakfast with the other parents or spend the time grocery shoppin
 g).
X-WR-RELCALID:a061cb3ff69901f5ac22c80fe2e9611e
X-WR-TIMEZONE:America/Chicago
BEGIN:VTIMEZONE
TZID:America/Chicago
BEGIN:STANDARD
TZNAME:CST
DTSTART:20251102T020000
TZOFFSETFROM:-0500
TZOFFSETTO:-0600
RDATE:20261101T020000
END:STANDARD
BEGIN:DAYLIGHT
TZNAME:CDT
DTSTART:20250309T020000
TZOFFSETFROM:-0600
TZOFFSETTO:-0500
RDATE:20260308T020000
RDATE:20270314T020000
END:DAYLIGHT
END:VTIMEZONE
BEGIN:VEVENT
UID:5d9ed33a-4d77-483d-8568-fdafe19b3f06
DTSTAMP:20260421T155447Z
DESCRIPTION:Our Breakfast Club for 6th-12th graders.  Students will get to 
 enjoy breakfast with friends\, learn practical skills like ordering and pa
 ying for their meal\, and have a blast with some games.\n(Parents will can
  enjoy breakfast with the other parents or spend the time grocery shopping
 ).
DTSTART;TZID=America/Chicago:20260207T090000
DTEND;TZID=America/Chicago:20260207T100000
LOCATION:https://secure.lglforms.com/form_engine/s/UZN-HDgu67RyLSAyHdVCtQ
SUMMARY:Breakfast Club
END:VEVENT
END:VCALENDAR
