BEGIN:VCALENDAR
VERSION:2.0
PRODID:-//www.dsamidlands.org//NONSGML kigkonsult.se iCalcreator 2.30.10//
CALSCALE:GREGORIAN
METHOD:PUBLISH
UID:5af1d73e-71bf-4612-a93f-6a9939c49111
X-WR-CALDESC:Join the GRANDS for lunch and conversation! We look forward to
  seeing you!
X-WR-RELCALID:be4a39507f9a0ecb839ffafe79c87e5f
X-WR-TIMEZONE:America/Chicago
BEGIN:VTIMEZONE
TZID:America/Chicago
BEGIN:STANDARD
TZNAME:CST
DTSTART:20251102T020000
TZOFFSETFROM:-0500
TZOFFSETTO:-0600
RDATE:20261101T020000
END:STANDARD
BEGIN:DAYLIGHT
TZNAME:CDT
DTSTART:20250309T020000
TZOFFSETFROM:-0600
TZOFFSETTO:-0500
RDATE:20260308T020000
RDATE:20270314T020000
END:DAYLIGHT
END:VTIMEZONE
BEGIN:VEVENT
UID:f848f18a-0e81-40c3-80f9-751a8706f9ca
DTSTAMP:20260421T155142Z
DESCRIPTION:Join the GRANDS for lunch and conversation! We look forward to 
 seeing you!
DTSTART;TZID=America/Chicago:20260205T113000
DTEND;TZID=America/Chicago:20260205T130000
LOCATION:https://secure.lglforms.com/form_engine/s/W6wpBCcpP3n7wsgkiVfPSQ
SUMMARY:GRANDS Lunch
END:VEVENT
END:VCALENDAR
