BEGIN:VCALENDAR
VERSION:2.0
PRODID:-//www.dsamidlands.org//NONSGML kigkonsult.se iCalcreator 2.30.10//
CALSCALE:GREGORIAN
METHOD:PUBLISH
UID:3b77a7cb-b8c1-4bdb-a0ed-b3e81e269d95
X-WR-CALDESC:Home Smart Skills Lab helps students in grades 6–12 practice r
 eal-life home skills to build confidence\, capability\, and independence.
X-WR-RELCALID:0a14d5d089fa42493b16a76df8615529
X-WR-TIMEZONE:America/Chicago
BEGIN:VTIMEZONE
TZID:America/Chicago
BEGIN:STANDARD
TZNAME:CST
DTSTART:20251102T020000
TZOFFSETFROM:-0500
TZOFFSETTO:-0600
RDATE:20261101T020000
END:STANDARD
BEGIN:DAYLIGHT
TZNAME:CDT
DTSTART:20250309T020000
TZOFFSETFROM:-0600
TZOFFSETTO:-0500
RDATE:20260308T020000
RDATE:20270314T020000
END:DAYLIGHT
END:VTIMEZONE
BEGIN:VEVENT
UID:37703697-0371-4c30-bd16-9c4401e42e6d
DTSTAMP:20260421T160004Z
DESCRIPTION:Home Smart Skills Lab helps students in grades 6–12 practice re
 al-life home skills to build confidence\, capability\, and independence.
DTSTART;TZID=America/Chicago:20260205T163000
DTEND;TZID=America/Chicago:20260205T173000
LOCATION:https://secure.lglforms.com/form_engine/s/ZRbzBzWICHAwN7643fdRXg?t
 =1768960307
SUMMARY:Home Smart: Real-Life Skills for Growing Independence
END:VEVENT
END:VCALENDAR
