BEGIN:VCALENDAR
VERSION:2.0
PRODID:-//www.dsamidlands.org//NONSGML kigkonsult.se iCalcreator 2.30.10//
CALSCALE:GREGORIAN
METHOD:PUBLISH
UID:a23e3fcb-5953-4fa1-a3b3-a778d96e6343
X-WR-CALDESC:Teens Connect is a great opportunity for our teens to connect 
 with one another\, enjoy a fun activity\, and share pizza afterward.
X-WR-RELCALID:842d2e6179d54454fb067af8d10322c3
X-WR-TIMEZONE:America/Chicago
BEGIN:VTIMEZONE
TZID:America/Chicago
BEGIN:STANDARD
TZNAME:CST
DTSTART:20251102T020000
TZOFFSETFROM:-0500
TZOFFSETTO:-0600
RDATE:20261101T020000
END:STANDARD
BEGIN:DAYLIGHT
TZNAME:CDT
DTSTART:20250309T020000
TZOFFSETFROM:-0600
TZOFFSETTO:-0500
RDATE:20260308T020000
RDATE:20270314T020000
END:DAYLIGHT
END:VTIMEZONE
BEGIN:VEVENT
UID:e980b510-4180-46d4-9805-2ad4423c059d
DTSTAMP:20260421T172034Z
DESCRIPTION:Teens Connect is a great opportunity for our teens to connect w
 ith one another\, enjoy a fun activity\, and share pizza afterward.
DTSTART;TZID=America/Chicago:20260128T173000
DTEND;TZID=America/Chicago:20260128T190000
LOCATION:https://secure.lglforms.com/form_engine/s/FFQvT_QrosXKC14y7fMzaQ
SUMMARY:Teens Connect
END:VEVENT
END:VCALENDAR
