BEGIN:VCALENDAR
VERSION:2.0
PRODID:-//www.dsamidlands.org//NONSGML kigkonsult.se iCalcreator 2.30.10//
CALSCALE:GREGORIAN
METHOD:PUBLISH
UID:0385d3af-197e-4ea8-b05a-05c2f6dfba91
X-WR-CALDESC:Little Ones: A play group for families with children ages birt
 h through 3 years of age with Down syndrome. Join the fun for play\, learn
 ing\, and connection! The whole family is welcome!\nJanuary 28th we will m
 eet at Chirpy's Play Cafe.
X-WR-RELCALID:741653e3361229a3d872be2e8188cd89
X-WR-TIMEZONE:America/Chicago
BEGIN:VTIMEZONE
TZID:America/Chicago
BEGIN:STANDARD
TZNAME:CST
DTSTART:20251102T020000
TZOFFSETFROM:-0500
TZOFFSETTO:-0600
RDATE:20261101T020000
END:STANDARD
BEGIN:DAYLIGHT
TZNAME:CDT
DTSTART:20250309T020000
TZOFFSETFROM:-0600
TZOFFSETTO:-0500
RDATE:20260308T020000
RDATE:20270314T020000
END:DAYLIGHT
END:VTIMEZONE
BEGIN:VEVENT
UID:0e86f236-c3f0-4c1b-82c7-2e61ed33cdae
DTSTAMP:20260421T172217Z
DESCRIPTION:Little Ones: A play group for families with children ages birth
  through 3 years of age with Down syndrome. Join the fun for play\, learni
 ng\, and connection! The whole family is welcome!\nJanuary 28th we will me
 et at Chirpy's Play Cafe.
DTSTART;TZID=America/Chicago:20260128T100000
DTEND;TZID=America/Chicago:20260128T110000
LOCATION:https://secure.lglforms.com/form_engine/s/bl_Kw57ln9ejhD5azMQ7tw
SUMMARY:Little Ones Play Group
END:VEVENT
END:VCALENDAR
