BEGIN:VCALENDAR
VERSION:2.0
PRODID:-//www.dsamidlands.org//NONSGML kigkonsult.se iCalcreator 2.30.10//
CALSCALE:GREGORIAN
METHOD:PUBLISH
UID:fc2cac3d-118d-4a67-a9f8-1a06b976f3c2
X-WR-CALDESC:Join us for a fun-filled afternoon of Mini Bowling! 🎳n\nLocati
 on:\nBlue Sky\n10730 Pacific St.\, Suite 150\n\nThis event is free for DSA
  members. Participants are welcome to bring money if they’d like to purcha
 se food and/or drinks during the event.\n\nFor questions\, please email De
 b Madden at madden@dsamidlands.org.
X-WR-RELCALID:4ea7b45b4fadea17104310bd3bd1e33d
X-WR-TIMEZONE:America/Chicago
BEGIN:VTIMEZONE
TZID:America/Chicago
BEGIN:STANDARD
TZNAME:CST
DTSTART:20251102T020000
TZOFFSETFROM:-0500
TZOFFSETTO:-0600
RDATE:20261101T020000
END:STANDARD
BEGIN:DAYLIGHT
TZNAME:CDT
DTSTART:20250309T020000
TZOFFSETFROM:-0600
TZOFFSETTO:-0500
RDATE:20260308T020000
RDATE:20270314T020000
END:DAYLIGHT
END:VTIMEZONE
BEGIN:VEVENT
UID:b4918529-13fa-4d8a-bcfc-b4b5a03f6097
DTSTAMP:20260421T172136Z
DESCRIPTION:Join us for a fun-filled afternoon of Mini Bowling! 🎳n\nLocatio
 n:\nBlue Sky\n10730 Pacific St.\, Suite 150\n\nThis event is free for DSA 
 members. Participants are welcome to bring money if they’d like to purchas
 e food and/or drinks during the event.\n\nFor questions\, please email Deb
  Madden at madden@dsamidlands.org.
DTSTART;TZID=America/Chicago:20260121T153000
DTEND;TZID=America/Chicago:20260121T170000
LOCATION:https://secure.lglforms.com/form_engine/s/VPOarU1R7vJl1AFhmsOTUA
SUMMARY:Adults Connect Mini Bowling 19+
END:VEVENT
END:VCALENDAR
