BEGIN:VCALENDAR
VERSION:2.0
PRODID:-//www.dsamidlands.org//NONSGML kigkonsult.se iCalcreator 2.30.10//
CALSCALE:GREGORIAN
METHOD:PUBLISH
UID:64e6ea7c-bf47-4253-968c-7415cc9d391e
X-WR-CALDESC:Join us from 5:30–7:00 p.m. at Kipp Gym (14445 W. Center Rd.\,
  Ste. 101\, Omaha). Kids will play with peers\, enjoy pizza together\, and
  have a blast—while parents enjoy some well-earned time off.\nThe cost is 
 $10. Please remember to bring socks and a water bottle. If you don’t have 
 socks\, no worries—your child will receive a pair at check-in!
X-WR-RELCALID:dadd913ac9755d8204df2936a2979dbd
X-WR-TIMEZONE:America/Chicago
BEGIN:VTIMEZONE
TZID:America/Chicago
BEGIN:STANDARD
TZNAME:CST
DTSTART:20251102T020000
TZOFFSETFROM:-0500
TZOFFSETTO:-0600
RDATE:20261101T020000
END:STANDARD
BEGIN:DAYLIGHT
TZNAME:CDT
DTSTART:20250309T020000
TZOFFSETFROM:-0600
TZOFFSETTO:-0500
RDATE:20260308T020000
RDATE:20270314T020000
END:DAYLIGHT
END:VTIMEZONE
BEGIN:VEVENT
UID:0bb74c04-460f-40c8-97bc-b5b657a8c6b0
DTSTAMP:20260421T172341Z
DESCRIPTION:Join us from 5:30–7:00 p.m. at Kipp Gym (14445 W. Center Rd.\, 
 Ste. 101\, Omaha). Kids will play with peers\, enjoy pizza together\, and 
 have a blast—while parents enjoy some well-earned time off.\nThe cost is $
 10. Please remember to bring socks and a water bottle. If you don’t have s
 ocks\, no worries—your child will receive a pair at check-in!
DTSTART;TZID=America/Chicago:20260121T173000
DTEND;TZID=America/Chicago:20260121T190000
LOCATION:https://secure.lglforms.com/form_engine/s/y0iMz1HknZkCysYPd_BPzQ
SUMMARY:Kids Connect 6th - 8th Grade
END:VEVENT
END:VCALENDAR
