BEGIN:VCALENDAR
VERSION:2.0
PRODID:-//www.dsamidlands.org//NONSGML kigkonsult.se iCalcreator 2.30.10//
CALSCALE:GREGORIAN
METHOD:PUBLISH
UID:e3f8ba45-fe62-4f90-99d9-78d3bd22f0db
X-WR-CALDESC:Managing Challenging Behaviors in School-Aged Children is inte
 nded for parents and families of children diagnosed with Down syndrome.  T
 he zoom presentation will help caregivers:\n-Learn importance of a compreh
 ensive\, individualized approach to managing challenging behaviors\n-Learn
  proactive and preventative strategies to manage challenging behaviors\n  
           *Importance of routine\n            *Learn about visual strategi
 es to improve independent behavior\n            *Strategic attention\n-Lea
 rn skill building strategies to manage challenging behaviors at home\n    
         *Positive reinforcement\n            *Reinforcing alternative beha
 viors\n-Strategies to manage challenging behaviors at school\n            
 *Positive reinforcement and visual strategies\n            *Strategies to 
 manage difficulties with transitions\n-Learn when it would be best to seek
  additional support\n\nCassie Reeve is a Pediatric Psychologist with Child
 ren’s Nebraska Behavioral Health.
X-WR-RELCALID:748d05c174eb3838ab343b2dd27296cd
X-WR-TIMEZONE:America/Chicago
BEGIN:VTIMEZONE
TZID:America/Chicago
BEGIN:STANDARD
TZNAME:CST
DTSTART:20251102T020000
TZOFFSETFROM:-0500
TZOFFSETTO:-0600
RDATE:20261101T020000
END:STANDARD
BEGIN:DAYLIGHT
TZNAME:CDT
DTSTART:20250309T020000
TZOFFSETFROM:-0600
TZOFFSETTO:-0500
RDATE:20260308T020000
RDATE:20270314T020000
END:DAYLIGHT
END:VTIMEZONE
BEGIN:VEVENT
UID:f3e57b9a-7a0d-420f-ac36-cccf5f59f828
DTSTAMP:20260421T172135Z
DESCRIPTION:Managing Challenging Behaviors in School-Aged Children is inten
 ded for parents and families of children diagnosed with Down syndrome.  Th
 e zoom presentation will help caregivers:\n-Learn importance of a comprehe
 nsive\, individualized approach to managing challenging behaviors\n-Learn 
 proactive and preventative strategies to manage challenging behaviors\n   
          *Importance of routine\n            *Learn about visual strategie
 s to improve independent behavior\n            *Strategic attention\n-Lear
 n skill building strategies to manage challenging behaviors at home\n     
        *Positive reinforcement\n            *Reinforcing alternative behav
 iors\n-Strategies to manage challenging behaviors at school\n            *
 Positive reinforcement and visual strategies\n            *Strategies to m
 anage difficulties with transitions\n-Learn when it would be best to seek 
 additional support\n\nCassie Reeve is a Pediatric Psychologist with Childr
 en’s Nebraska Behavioral Health.
DTSTART;TZID=America/Chicago:20260120T180000
DTEND;TZID=America/Chicago:20260120T193000
LOCATION:https://secure.lglforms.com/form_engine/s/xsh74Hkfk4P7vS5fOqLq_A
SUMMARY:DSES
END:VEVENT
END:VCALENDAR
