BEGIN:VCALENDAR
VERSION:2.0
PRODID:-//www.dsamidlands.org//NONSGML kigkonsult.se iCalcreator 2.30.10//
CALSCALE:GREGORIAN
METHOD:PUBLISH
UID:a978cc0d-1e46-4df4-9559-24699faaa8b0
X-WR-CALDESC:DSA and the DSAF (Lincoln) are bringing our communities togeth
 er for this Down Syndrome Awareness Night with the Omaha Lancers!  Join us
  for a pre-game social with our families in the pre-function ballrooms at 
 5:00 p.m. and then for the game that starts at 6:05 p.m.  Tickets are $18.
 11 each\, which includes fees\, and can be purchased at the link provided.
X-WR-RELCALID:34d827688644b7f17849a4d0881890f3
X-WR-TIMEZONE:America/Chicago
BEGIN:VTIMEZONE
TZID:America/Chicago
BEGIN:STANDARD
TZNAME:CST
DTSTART:20251102T020000
TZOFFSETFROM:-0500
TZOFFSETTO:-0600
RDATE:20261101T020000
END:STANDARD
BEGIN:DAYLIGHT
TZNAME:CDT
DTSTART:20250309T020000
TZOFFSETFROM:-0600
TZOFFSETTO:-0500
RDATE:20260308T020000
RDATE:20270314T020000
END:DAYLIGHT
END:VTIMEZONE
BEGIN:VEVENT
UID:b98d5864-a416-495a-87ba-75ab604da1de
DTSTAMP:20260421T173103Z
DESCRIPTION:DSA and the DSAF (Lincoln) are bringing our communities togethe
 r for this Down Syndrome Awareness Night with the Omaha Lancers!  Join us 
 for a pre-game social with our families in the pre-function ballrooms at 5
 :00 p.m. and then for the game that starts at 6:05 p.m.  Tickets are $18.1
 1 each\, which includes fees\, and can be purchased at the link provided.
DTSTART;TZID=America/Chicago:20260117T170000
DTEND;TZID=America/Chicago:20260117T213000
LOCATION:https://www.gofevo.com/event/Downsyndrome330
SUMMARY:Down Syndrome Awareness Night at the Omaha Lancers
END:VEVENT
END:VCALENDAR
