BEGIN:VCALENDAR
VERSION:2.0
PRODID:-//www.dsamidlands.org//NONSGML kigkonsult.se iCalcreator 2.30.10//
CALSCALE:GREGORIAN
METHOD:PUBLISH
UID:47da6e35-3688-4974-8c8c-5fc15cd8e69c
X-WR-CALDESC:Join us January 14th from 5:30–7:00 p.m. at Kipp Gym (14445 W.
  Center Rd.\, Ste. 101\, Omaha). Kids will play with peers\, enjoy pizza t
 ogether\, and have a blast—while parents enjoy some well-earned time off.
 \nThe cost is $10. Please remember to bring socks and a water bottle. If y
 ou don’t have socks\, no worries—your child will receive a pair at check-i
 n!
X-WR-RELCALID:4b33a9f42bbe5090f2c93e2b034f19d4
X-WR-TIMEZONE:America/Chicago
BEGIN:VTIMEZONE
TZID:America/Chicago
BEGIN:STANDARD
TZNAME:CST
DTSTART:20251102T020000
TZOFFSETFROM:-0500
TZOFFSETTO:-0600
RDATE:20261101T020000
END:STANDARD
BEGIN:DAYLIGHT
TZNAME:CDT
DTSTART:20250309T020000
TZOFFSETFROM:-0600
TZOFFSETTO:-0500
RDATE:20260308T020000
RDATE:20270314T020000
END:DAYLIGHT
END:VTIMEZONE
BEGIN:VEVENT
UID:43346a34-46b9-43df-a77f-d786de975beb
DTSTAMP:20260421T172340Z
DESCRIPTION:Join us January 14th from 5:30–7:00 p.m. at Kipp Gym (14445 W. 
 Center Rd.\, Ste. 101\, Omaha). Kids will play with peers\, enjoy pizza to
 gether\, and have a blast—while parents enjoy some well-earned time off.\n
 The cost is $10. Please remember to bring socks and a water bottle. If you
  don’t have socks\, no worries—your child will receive a pair at check-in!
DTSTART;TZID=America/Chicago:20260114T173000
DTEND;TZID=America/Chicago:20260114T190000
LOCATION:https://secure.lglforms.com/form_engine/s/g-EAwS-SD867f4bt27jh9Q
SUMMARY:Kids Connect 3rd - 5th Grade
END:VEVENT
END:VCALENDAR
