BEGIN:VCALENDAR
VERSION:2.0
PRODID:-//www.dsamidlands.org//NONSGML kigkonsult.se iCalcreator 2.30.10//
CALSCALE:GREGORIAN
METHOD:PUBLISH
UID:48c1f5c7-bab7-43b4-b060-55bc14d63955
X-WR-CALDESC:Join other moms for coffee\, conversation\, and great connecti
 ons! We are excited to see you on Saturday\, January 10th from 9:30-11:00 
 a.m at Coffee Alley 7310 Harrison St. Ralston NE.
X-WR-RELCALID:8d9ff5eb224b1adf88d63266db77f76a
X-WR-TIMEZONE:America/Chicago
BEGIN:VTIMEZONE
TZID:America/Chicago
BEGIN:STANDARD
TZNAME:CST
DTSTART:20251102T020000
TZOFFSETFROM:-0500
TZOFFSETTO:-0600
RDATE:20261101T020000
END:STANDARD
BEGIN:DAYLIGHT
TZNAME:CDT
DTSTART:20250309T020000
TZOFFSETFROM:-0600
TZOFFSETTO:-0500
RDATE:20260308T020000
RDATE:20270314T020000
END:DAYLIGHT
END:VTIMEZONE
BEGIN:VEVENT
UID:1a616824-bb8c-4063-be0f-f517379897f4
DTSTAMP:20260421T172320Z
DESCRIPTION:Join other moms for coffee\, conversation\, and great connectio
 ns! We are excited to see you on Saturday\, January 10th from 9:30-11:00 a
 .m at Coffee Alley 7310 Harrison St. Ralston NE.
DTSTART;TZID=America/Chicago:20260110T093000
DTEND;TZID=America/Chicago:20260110T110000
LOCATION:
SUMMARY:DSA Moms Coffee Connections
END:VEVENT
END:VCALENDAR
