BEGIN:VCALENDAR
VERSION:2.0
PRODID:-//www.dsamidlands.org//NONSGML kigkonsult.se iCalcreator 2.30.10//
CALSCALE:GREGORIAN
METHOD:PUBLISH
UID:ef09edbd-a9fe-4160-9891-f7ae9a9e1a94
X-WR-CALDESC:
X-WR-RELCALID:3b63c9efc6e1f3d9e820b895e5f09fae
X-WR-TIMEZONE:America/Chicago
BEGIN:VTIMEZONE
TZID:America/Chicago
BEGIN:STANDARD
TZNAME:CST
DTSTART:20251102T020000
TZOFFSETFROM:-0500
TZOFFSETTO:-0600
RDATE:20261101T020000
END:STANDARD
BEGIN:DAYLIGHT
TZNAME:CDT
DTSTART:20250309T020000
TZOFFSETFROM:-0600
TZOFFSETTO:-0500
RDATE:20260308T020000
RDATE:20270314T020000
END:DAYLIGHT
END:VTIMEZONE
BEGIN:VEVENT
UID:b6f6bb8d-ffc1-4ab8-b38c-d3266ddda59b
DTSTAMP:20260421T171323Z
DESCRIPTION:
DTSTART;TZID=America/Chicago:20251222T050000
DTEND;TZID=America/Chicago:20260104T050001
LOCATION:
SUMMARY:Winter Break
END:VEVENT
END:VCALENDAR
