BEGIN:VCALENDAR
VERSION:2.0
PRODID:-//www.dsamidlands.org//NONSGML kigkonsult.se iCalcreator 2.30.10//
CALSCALE:GREGORIAN
METHOD:PUBLISH
UID:928f22bb-b768-413b-b21a-3dd0c4ce1528
X-WR-CALDESC:Come enjoy some hot chocolate and cookies with Santa! There wi
 ll be crafts and fun for the whole family!\n\nSaturday\, December 13\, 202
 5\nDSA Office- 10824 Old Mill Road Suite 8 Omaha\, NE \n12:30 pm-2:00 pm\n
 Santa from 1pm-2pm\n\nRegistration not required\, but will help with deter
 mining attendance.
X-WR-RELCALID:48437acce86136bd88279adf4ceba10f
X-WR-TIMEZONE:America/Chicago
BEGIN:VTIMEZONE
TZID:America/Chicago
BEGIN:STANDARD
TZNAME:CST
DTSTART:20251102T020000
TZOFFSETFROM:-0500
TZOFFSETTO:-0600
RDATE:20261101T020000
END:STANDARD
BEGIN:DAYLIGHT
TZNAME:CDT
DTSTART:20250309T020000
TZOFFSETFROM:-0600
TZOFFSETTO:-0500
RDATE:20260308T020000
RDATE:20270314T020000
END:DAYLIGHT
END:VTIMEZONE
BEGIN:VEVENT
UID:2003a7bd-6926-470e-a716-6a3bc92204cc
DTSTAMP:20260421T183917Z
DESCRIPTION:Come enjoy some hot chocolate and cookies with Santa! There wil
 l be crafts and fun for the whole family!\n\nSaturday\, December 13\, 2025
 \nDSA Office- 10824 Old Mill Road Suite 8 Omaha\, NE \n12:30 pm-2:00 pm\nS
 anta from 1pm-2pm\n\nRegistration not required\, but will help with determ
 ining attendance.
DTSTART;TZID=America/Chicago:20251213T123000
DTEND;TZID=America/Chicago:20251213T140000
LOCATION:https://secure.lglforms.com/form_engine/s/6ybUpxRKP_E_evLDrYH_Pw?t
 =1760451288
SUMMARY:Cookies with Santa
END:VEVENT
END:VCALENDAR
