BEGIN:VCALENDAR
VERSION:2.0
PRODID:-//www.dsamidlands.org//NONSGML kigkonsult.se iCalcreator 2.30.10//
CALSCALE:GREGORIAN
METHOD:PUBLISH
UID:3f99e8b2-5ff4-4e58-988e-8c61b3fe271d
X-WR-CALDESC:Breakfast Club at Hy-Vee for our 6th - 12th Grade Members
X-WR-RELCALID:eea6137b0e0998739ca803825fa06ebc
X-WR-TIMEZONE:America/Chicago
BEGIN:VTIMEZONE
TZID:America/Chicago
BEGIN:STANDARD
TZNAME:CST
DTSTART:20251102T020000
TZOFFSETFROM:-0500
TZOFFSETTO:-0600
RDATE:20261101T020000
END:STANDARD
BEGIN:DAYLIGHT
TZNAME:CDT
DTSTART:20250309T020000
TZOFFSETFROM:-0600
TZOFFSETTO:-0500
RDATE:20260308T020000
RDATE:20270314T020000
END:DAYLIGHT
END:VTIMEZONE
BEGIN:VEVENT
UID:c6d7cef1-9a3c-40c9-a49b-69be4f6e03d3
DTSTAMP:20260421T184530Z
DESCRIPTION:Breakfast Club at Hy-Vee for our 6th - 12th Grade Members
DTSTART;TZID=America/Chicago:20251213T090000
DTEND;TZID=America/Chicago:20251213T100000
LOCATION:https://secure.lglforms.com/form_engine/s/auW6O6p4o2BiIn5mEDbpVg
SUMMARY:Breakfast Club 6th - 12th Grade
END:VEVENT
END:VCALENDAR
