BEGIN:VCALENDAR
VERSION:2.0
PRODID:-//www.dsamidlands.org//NONSGML kigkonsult.se iCalcreator 2.30.10//
CALSCALE:GREGORIAN
METHOD:PUBLISH
UID:dce217d6-2fa1-44c7-bdde-8da8ac8b5d1e
X-WR-CALDESC:Join us for our annual Mom's Ornament Exchange on Saturday\, D
 ecember 6th from 9:30 a.m. to 11:00 a.m. at the DSA Office. Bring a wrappe
 d ornament to exchange for our White Elephant Gift Exchange! See you aoon!
X-WR-RELCALID:4580e0821f2e3ce11fafe13f97a51cf7
X-WR-TIMEZONE:America/Chicago
BEGIN:VTIMEZONE
TZID:America/Chicago
BEGIN:STANDARD
TZNAME:CST
DTSTART:20251102T020000
TZOFFSETFROM:-0500
TZOFFSETTO:-0600
RDATE:20261101T020000
END:STANDARD
BEGIN:DAYLIGHT
TZNAME:CDT
DTSTART:20250309T020000
TZOFFSETFROM:-0600
TZOFFSETTO:-0500
RDATE:20260308T020000
RDATE:20270314T020000
END:DAYLIGHT
END:VTIMEZONE
BEGIN:VEVENT
UID:a9e42bcd-0dd8-4279-ba75-88f1bbc6d12e
DTSTAMP:20260421T184617Z
DESCRIPTION:Join us for our annual Mom's Ornament Exchange on Saturday\, De
 cember 6th from 9:30 a.m. to 11:00 a.m. at the DSA Office. Bring a wrapped
  ornament to exchange for our White Elephant Gift Exchange! See you aoon!
DTSTART;TZID=America/Chicago:20251206T093000
DTEND;TZID=America/Chicago:20251206T110000
LOCATION:https://secure.lglforms.com/form_engine/s/AfPERtVt8W7L45309Th05w
SUMMARY:Moms Ornament Exchange
END:VEVENT
END:VCALENDAR
