BEGIN:VCALENDAR
VERSION:2.0
PRODID:-//www.dsamidlands.org//NONSGML kigkonsult.se iCalcreator 2.30.10//
CALSCALE:GREGORIAN
METHOD:PUBLISH
UID:62f11d9d-2a35-4a67-8eb9-1f1bc16b8b75
X-WR-CALDESC:
X-WR-RELCALID:555b81bf6ae8948842c7b81e7c4aed16
X-WR-TIMEZONE:America/Chicago
BEGIN:VTIMEZONE
TZID:America/Chicago
BEGIN:STANDARD
TZNAME:CST
DTSTART:20251102T020000
TZOFFSETFROM:-0500
TZOFFSETTO:-0600
RDATE:20261101T020000
END:STANDARD
BEGIN:DAYLIGHT
TZNAME:CDT
DTSTART:20250309T020000
TZOFFSETFROM:-0600
TZOFFSETTO:-0500
RDATE:20260308T020000
RDATE:20270314T020000
END:DAYLIGHT
END:VTIMEZONE
BEGIN:VEVENT
UID:521804bd-8b4b-4789-b15a-ff4b9c07bdc1
DTSTAMP:20260421T185104Z
DESCRIPTION:
DTSTART;TZID=America/Chicago:20251204T173000
DTEND;TZID=America/Chicago:20251204T193000
LOCATION:https://secure.lglforms.com/form_engine/s/s4Bxylgbs462a85Ibj9ZOw
SUMMARY:Adults Connect 19+ Movie/Game Night
END:VEVENT
END:VCALENDAR
