BEGIN:VCALENDAR
VERSION:2.0
PRODID:-//www.dsamidlands.org//NONSGML kigkonsult.se iCalcreator 2.30.10//
CALSCALE:GREGORIAN
METHOD:PUBLISH
UID:fe505959-e343-47e3-8902-d43212adea56
X-WR-CALDESC:
X-WR-RELCALID:fc42201667b95a907670902d24071455
X-WR-TIMEZONE:America/Chicago
BEGIN:VTIMEZONE
TZID:America/Chicago
BEGIN:STANDARD
TZNAME:CST
DTSTART:20251102T020000
TZOFFSETFROM:-0500
TZOFFSETTO:-0600
RDATE:20261101T020000
END:STANDARD
BEGIN:DAYLIGHT
TZNAME:CDT
DTSTART:20250309T020000
TZOFFSETFROM:-0600
TZOFFSETTO:-0500
RDATE:20260308T020000
RDATE:20270314T020000
END:DAYLIGHT
END:VTIMEZONE
BEGIN:VEVENT
UID:b37eaa74-2869-4acf-9c4d-ed57be9dcb10
DTSTAMP:20260421T201752Z
DESCRIPTION:
DTSTART;TZID=America/Chicago:20251119T173000
DTEND;TZID=America/Chicago:20251119T190000
LOCATION:https://secure.lglforms.com/form_engine/s/yXN7dVxLuj5bWFQGIDszxA
SUMMARY:Kids Connect 6th - 8th Grade -KIPP Gym
END:VEVENT
END:VCALENDAR
