BEGIN:VCALENDAR
VERSION:2.0
PRODID:-//www.dsamidlands.org//NONSGML kigkonsult.se iCalcreator 2.30.10//
CALSCALE:GREGORIAN
METHOD:PUBLISH
UID:519c6265-90e5-4c4c-b972-8cc6106a2f7b
X-WR-CALDESC:
X-WR-RELCALID:a0ea61f87b5751731c78cc42963a9bce
X-WR-TIMEZONE:America/Chicago
BEGIN:VTIMEZONE
TZID:America/Chicago
BEGIN:STANDARD
TZNAME:CST
DTSTART:20251102T020000
TZOFFSETFROM:-0500
TZOFFSETTO:-0600
RDATE:20261101T020000
END:STANDARD
BEGIN:DAYLIGHT
TZNAME:CDT
DTSTART:20250309T020000
TZOFFSETFROM:-0600
TZOFFSETTO:-0500
RDATE:20260308T020000
RDATE:20270314T020000
END:DAYLIGHT
END:VTIMEZONE
BEGIN:VEVENT
UID:56d772b0-af69-4f67-aafa-f152b3f85a83
DTSTAMP:20260421T201804Z
DESCRIPTION:
DTSTART;TZID=America/Chicago:20251118T180000
DTEND;TZID=America/Chicago:20251118T193000
LOCATION:https://secure.lglforms.com/form_engine/s/we1vAPjtrEUOq0nAH3SVTA
SUMMARY:Down Syndrome Education Series (DSES) on Zoom
END:VEVENT
END:VCALENDAR
