BEGIN:VCALENDAR
VERSION:2.0
PRODID:-//www.dsamidlands.org//NONSGML kigkonsult.se iCalcreator 2.30.10//
CALSCALE:GREGORIAN
METHOD:PUBLISH
UID:154b7c01-5181-4f59-87cc-5db80267a472
X-WR-CALDESC:Come join us from 5:30-7 PM at KIPP Gym for an evening of fun 
 and pizza!
X-WR-RELCALID:7f9dd11f46a3c1026bb67d7106dcaa4e
X-WR-TIMEZONE:America/Chicago
BEGIN:VTIMEZONE
TZID:America/Chicago
BEGIN:STANDARD
TZNAME:CST
DTSTART:20251102T020000
TZOFFSETFROM:-0500
TZOFFSETTO:-0600
RDATE:20261101T020000
END:STANDARD
BEGIN:DAYLIGHT
TZNAME:CDT
DTSTART:20250309T020000
TZOFFSETFROM:-0600
TZOFFSETTO:-0500
RDATE:20260308T020000
RDATE:20270314T020000
END:DAYLIGHT
END:VTIMEZONE
BEGIN:VEVENT
UID:88356096-c2b1-4c08-b09c-ed7711076dca
DTSTAMP:20260421T201147Z
DESCRIPTION:Come join us from 5:30-7 PM at KIPP Gym for an evening of fun a
 nd pizza!
DTSTART;TZID=America/Chicago:20251112T173000
DTEND;TZID=America/Chicago:20251112T190000
LOCATION:https://secure.lglforms.com/form_engine/s/MNZ8fwE6Qu4XeHNBGUz8pg
SUMMARY:Kids Connect 3rd-5th Grade KIPP Gym
END:VEVENT
END:VCALENDAR
