BEGIN:VCALENDAR
VERSION:2.0
PRODID:-//www.dsamidlands.org//NONSGML kigkonsult.se iCalcreator 2.30.10//
CALSCALE:GREGORIAN
METHOD:PUBLISH
UID:14f94acf-cbfb-488c-8d08-6f9f8ad3e56a
X-WR-CALDESC:Join other moms for coffee\, conversation\, and great connecti
 ons! We look forward to seeing you on Saturday\, November 8th from 9:30-11
 :00 a.m at Archetype Coffee in Millwork Commons. 1229 Millwork Ave. Omaha\
 , NE
X-WR-RELCALID:d3a3b8f9a61c62e1dc3c5fb911e14df9
X-WR-TIMEZONE:America/Chicago
BEGIN:VTIMEZONE
TZID:America/Chicago
BEGIN:STANDARD
TZNAME:CST
DTSTART:20251102T020000
TZOFFSETFROM:-0500
TZOFFSETTO:-0600
RDATE:20261101T020000
END:STANDARD
BEGIN:DAYLIGHT
TZNAME:CDT
DTSTART:20250309T020000
TZOFFSETFROM:-0600
TZOFFSETTO:-0500
RDATE:20260308T020000
RDATE:20270314T020000
END:DAYLIGHT
END:VTIMEZONE
BEGIN:VEVENT
UID:3e9b3cc7-aa45-4d56-8013-066abcc139f1
DTSTAMP:20260421T201138Z
DESCRIPTION:Join other moms for coffee\, conversation\, and great connectio
 ns! We look forward to seeing you on Saturday\, November 8th from 9:30-11:
 00 a.m at Archetype Coffee in Millwork Commons. 1229 Millwork Ave. Omaha\,
  NE
DTSTART;TZID=America/Chicago:20251108T093000
DTEND;TZID=America/Chicago:20251108T110000
LOCATION:
SUMMARY:DSA Moms Coffee Connections
END:VEVENT
END:VCALENDAR
