BEGIN:VCALENDAR
VERSION:2.0
PRODID:-//www.dsamidlands.org//NONSGML kigkonsult.se iCalcreator 2.30.10//
CALSCALE:GREGORIAN
METHOD:PUBLISH
UID:fa451b43-c89e-4cd8-9bfd-061ea13e97fd
X-WR-CALDESC:Bring out the monsters\, ghouls\, princesses\, and heroes to t
 he DSA Office on October 23rd 6:30-7:30.  Decorate your trunk and hand out
  candy if you would like to do that. The more\, the merrier!\n\nCars will 
 be set up at 5:30PM. Trick-or-Treating is from 6:30pm to 7:30pm.\n\nAddres
 s - DSA Office\n10824 Old Mill Road Suite 8\nOmaha\, NE 68154\n\n*Registra
 tion not required\, but it does help us to determine how many will attend.
  \n
X-WR-RELCALID:5a4dda93462fcf8871f9704a05dafb39
X-WR-TIMEZONE:America/Chicago
BEGIN:VTIMEZONE
TZID:America/Chicago
BEGIN:STANDARD
TZNAME:CST
DTSTART:20241103T020000
TZOFFSETFROM:-0500
TZOFFSETTO:-0600
RDATE:20251102T020000
RDATE:20261101T020000
END:STANDARD
BEGIN:DAYLIGHT
TZNAME:CDT
DTSTART:20250309T020000
TZOFFSETFROM:-0600
TZOFFSETTO:-0500
RDATE:20260308T020000
RDATE:20270314T020000
END:DAYLIGHT
END:VTIMEZONE
BEGIN:VEVENT
UID:c0b72b81-490c-41a9-8ea7-2bbbdb8d128c
DTSTAMP:20260421T214139Z
DESCRIPTION:Bring out the monsters\, ghouls\, princesses\, and heroes to th
 e DSA Office on October 23rd 6:30-7:30.  Decorate your trunk and hand out 
 candy if you would like to do that. The more\, the merrier!\n\nCars will b
 e set up at 5:30PM. Trick-or-Treating is from 6:30pm to 7:30pm.\n\nAddress
  - DSA Office\n10824 Old Mill Road Suite 8\nOmaha\, NE 68154\n\n*Registrat
 ion not required\, but it does help us to determine how many will attend. 
 \n
DTSTART;TZID=America/Chicago:20251023T183000
DTEND;TZID=America/Chicago:20251023T193000
LOCATION:https://secure.lglforms.com/form_engine/s/NmwEcGLLZYRTn5mckvXX1g?t
 =1758212557
SUMMARY:Trunk or Treat
END:VEVENT
END:VCALENDAR
