BEGIN:VCALENDAR
VERSION:2.0
PRODID:-//www.dsamidlands.org//NONSGML kigkonsult.se iCalcreator 2.30.10//
CALSCALE:GREGORIAN
METHOD:PUBLISH
UID:9495f8ba-906f-4dd3-bc38-ba965b2e5810
X-WR-CALDESC:Join us for a night of fun at the pumpkin patch all to ourselv
 es! Down Syndrome Alliance of the Midlands reserved the entire place for j
 ust our families!\n\nAdmission to the Pumpkin Patch is free to DSA Familie
 s and Friends.\n
X-WR-RELCALID:e1f730f7006638e346e7a4f07ea879ef
X-WR-TIMEZONE:America/Chicago
BEGIN:VTIMEZONE
TZID:America/Chicago
BEGIN:STANDARD
TZNAME:CST
DTSTART:20241103T020000
TZOFFSETFROM:-0500
TZOFFSETTO:-0600
RDATE:20251102T020000
RDATE:20261101T020000
END:STANDARD
BEGIN:DAYLIGHT
TZNAME:CDT
DTSTART:20250309T020000
TZOFFSETFROM:-0600
TZOFFSETTO:-0500
RDATE:20260308T020000
RDATE:20270314T020000
END:DAYLIGHT
END:VTIMEZONE
BEGIN:VEVENT
UID:65638c30-0d50-49a6-ad90-bb7f5e9d0aab
DTSTAMP:20260421T213916Z
DESCRIPTION:Join us for a night of fun at the pumpkin patch all to ourselve
 s! Down Syndrome Alliance of the Midlands reserved the entire place for ju
 st our families!\n\nAdmission to the Pumpkin Patch is free to DSA Families
  and Friends.\n
DTSTART;TZID=America/Chicago:20251016T170000
DTEND;TZID=America/Chicago:20251016T200000
LOCATION:https://secure.lglforms.com/form_engine/s/Sw_R9WW2VOSyfZPI5lwOLw?t
 =1758213030
SUMMARY:Pumpkin Patch
END:VEVENT
END:VCALENDAR
