BEGIN:VCALENDAR
VERSION:2.0
PRODID:-//www.dsamidlands.org//NONSGML kigkonsult.se iCalcreator 2.30.10//
CALSCALE:GREGORIAN
METHOD:PUBLISH
UID:c27a1314-1baf-428a-be1e-8edd34e94234
X-WR-CALDESC:
X-WR-RELCALID:0cbfb00deb974498bb296c1be9a04b2c
X-WR-TIMEZONE:America/Chicago
BEGIN:VTIMEZONE
TZID:America/Chicago
BEGIN:STANDARD
TZNAME:CST
DTSTART:20241103T020000
TZOFFSETFROM:-0500
TZOFFSETTO:-0600
RDATE:20251102T020000
RDATE:20261101T020000
END:STANDARD
BEGIN:DAYLIGHT
TZNAME:CDT
DTSTART:20250309T020000
TZOFFSETFROM:-0600
TZOFFSETTO:-0500
RDATE:20260308T020000
RDATE:20270314T020000
END:DAYLIGHT
END:VTIMEZONE
BEGIN:VEVENT
UID:f30357c7-69da-4328-8f7f-d0f85ca066e5
DTSTAMP:20260421T215509Z
DESCRIPTION:
DTSTART;TZID=America/Chicago:20251015T173000
DTEND;TZID=America/Chicago:20251015T190000
LOCATION:https://secure.lglforms.com/form_engine/s/pKOBtodIc7j-R9do-K9AMA
SUMMARY:Kids Connect 6th-8th Grade - KIPP Gym
END:VEVENT
END:VCALENDAR
