BEGIN:VCALENDAR
VERSION:2.0
PRODID:-//www.dsamidlands.org//NONSGML kigkonsult.se iCalcreator 2.30.10//
CALSCALE:GREGORIAN
METHOD:PUBLISH
UID:11eec6db-0a4a-4a79-83af-1dab7c2e17dc
X-WR-CALDESC:
X-WR-RELCALID:3d1626e3a43aa0e6335b1fb22ecb1e0d
X-WR-TIMEZONE:America/Chicago
BEGIN:VTIMEZONE
TZID:America/Chicago
BEGIN:STANDARD
TZNAME:CST
DTSTART:20241103T020000
TZOFFSETFROM:-0500
TZOFFSETTO:-0600
RDATE:20251102T020000
RDATE:20261101T020000
END:STANDARD
BEGIN:DAYLIGHT
TZNAME:CDT
DTSTART:20250309T020000
TZOFFSETFROM:-0600
TZOFFSETTO:-0500
RDATE:20260308T020000
RDATE:20270314T020000
END:DAYLIGHT
END:VTIMEZONE
BEGIN:VEVENT
UID:cb0be531-6843-4607-a144-ccb5935a2b34
DTSTAMP:20260421T214626Z
DESCRIPTION:
DTSTART;TZID=America/Chicago:20251013T050000
DTEND;TZID=America/Chicago:20251013T050001
LOCATION:
SUMMARY:Indigenous Peoples Day
END:VEVENT
END:VCALENDAR
