BEGIN:VCALENDAR
VERSION:2.0
PRODID:-//www.dsamidlands.org//NONSGML kigkonsult.se iCalcreator 2.30.10//
CALSCALE:GREGORIAN
METHOD:PUBLISH
UID:d28e3911-1ce1-4c9d-a3d1-466d219f3715
X-WR-CALDESC:Join other moms for coffee\, conversation\, and great connecti
 ons! We look forward to seeing you on Saturday\, October 11th from 9:30-11
 :00 a.m. We will meet at Cypress & Myrtle Coffee House at 7023 Cass St.
X-WR-RELCALID:13f7d3c00f8f8b80a560576f21bcc4d2
X-WR-TIMEZONE:America/Chicago
BEGIN:VTIMEZONE
TZID:America/Chicago
BEGIN:STANDARD
TZNAME:CST
DTSTART:20241103T020000
TZOFFSETFROM:-0500
TZOFFSETTO:-0600
RDATE:20251102T020000
RDATE:20261101T020000
END:STANDARD
BEGIN:DAYLIGHT
TZNAME:CDT
DTSTART:20250309T020000
TZOFFSETFROM:-0600
TZOFFSETTO:-0500
RDATE:20260308T020000
RDATE:20270314T020000
END:DAYLIGHT
END:VTIMEZONE
BEGIN:VEVENT
UID:b7f92c79-0366-457a-81f5-19123131bfee
DTSTAMP:20260421T214737Z
DESCRIPTION:Join other moms for coffee\, conversation\, and great connectio
 ns! We look forward to seeing you on Saturday\, October 11th from 9:30-11:
 00 a.m. We will meet at Cypress & Myrtle Coffee House at 7023 Cass St.
DTSTART;TZID=America/Chicago:20251011T093000
DTEND;TZID=America/Chicago:20251011T110000
LOCATION:
SUMMARY:DSA Moms Coffee Connections
END:VEVENT
END:VCALENDAR
