BEGIN:VCALENDAR
VERSION:2.0
PRODID:-//www.dsamidlands.org//NONSGML kigkonsult.se iCalcreator 2.30.10//
CALSCALE:GREGORIAN
METHOD:PUBLISH
UID:9335552b-0a5a-47b3-b708-423e591f72f1
X-WR-CALDESC:Kids Connect for members  3rd-5th Grade.  Come play\, meet new
  friends\, and enjoy pizza!
X-WR-RELCALID:a0e3687ab347ceb2b87e0be7af0d4db1
X-WR-TIMEZONE:America/Chicago
BEGIN:VTIMEZONE
TZID:America/Chicago
BEGIN:STANDARD
TZNAME:CST
DTSTART:20241103T020000
TZOFFSETFROM:-0500
TZOFFSETTO:-0600
RDATE:20251102T020000
RDATE:20261101T020000
END:STANDARD
BEGIN:DAYLIGHT
TZNAME:CDT
DTSTART:20250309T020000
TZOFFSETFROM:-0600
TZOFFSETTO:-0500
RDATE:20260308T020000
RDATE:20270314T020000
END:DAYLIGHT
END:VTIMEZONE
BEGIN:VEVENT
UID:c6e378b2-be6a-4ea1-9f85-9e57cede8102
DTSTAMP:20260421T214654Z
DESCRIPTION:Kids Connect for members  3rd-5th Grade.  Come play\, meet new 
 friends\, and enjoy pizza!
DTSTART;TZID=America/Chicago:20251008T173000
DTEND;TZID=America/Chicago:20251008T190000
LOCATION:https://secure.lglforms.com/form_engine/s/DOn6CElTvu6A17FLbBs6cg
SUMMARY:Kids Connect 3rd-5th Grade -CANCELED
END:VEVENT
END:VCALENDAR
