BEGIN:VCALENDAR
VERSION:2.0
PRODID:-//www.dsamidlands.org//NONSGML kigkonsult.se iCalcreator 2.30.10//
CALSCALE:GREGORIAN
METHOD:PUBLISH
UID:bd00f7b3-e253-4179-8016-6c1d3594537b
X-WR-CALDESC:Kids Connect for our PreK-2nd Grade members.  Come play\, meet
  new friends and enjoy pizza!
X-WR-RELCALID:8789c185eb71d587d1f38029a5d8377c
X-WR-TIMEZONE:America/Chicago
BEGIN:VTIMEZONE
TZID:America/Chicago
BEGIN:STANDARD
TZNAME:CST
DTSTART:20241103T020000
TZOFFSETFROM:-0500
TZOFFSETTO:-0600
RDATE:20251102T020000
RDATE:20261101T020000
END:STANDARD
BEGIN:DAYLIGHT
TZNAME:CDT
DTSTART:20250309T020000
TZOFFSETFROM:-0600
TZOFFSETTO:-0500
RDATE:20260308T020000
RDATE:20270314T020000
END:DAYLIGHT
END:VTIMEZONE
BEGIN:VEVENT
UID:f11d6e52-dfc5-43ae-888d-7dfde8cd8d05
DTSTAMP:20260421T214937Z
DESCRIPTION:Kids Connect for our PreK-2nd Grade members.  Come play\, meet 
 new friends and enjoy pizza!
DTSTART;TZID=America/Chicago:20251001T173000
DTEND;TZID=America/Chicago:20251001T190000
LOCATION:https://secure.lglforms.com/form_engine/s/iuQrCTTK14y3JWo37-xlQw
SUMMARY:Kids Connect PreK-2nd Grade
END:VEVENT
END:VCALENDAR
