BEGIN:VCALENDAR
VERSION:2.0
PRODID:-//www.dsamidlands.org//NONSGML kigkonsult.se iCalcreator 2.30.10//
CALSCALE:GREGORIAN
METHOD:PUBLISH
UID:f41ff6d9-9c94-4bd4-96b0-cb4945e965b2
X-WR-CALDESC:
X-WR-RELCALID:a9bfcf3599578d6cc9cac18d908d719f
X-WR-TIMEZONE:America/Chicago
BEGIN:VTIMEZONE
TZID:America/Chicago
BEGIN:STANDARD
TZNAME:CST
DTSTART:20241103T020000
TZOFFSETFROM:-0500
TZOFFSETTO:-0600
RDATE:20251102T020000
RDATE:20261101T020000
END:STANDARD
BEGIN:DAYLIGHT
TZNAME:CDT
DTSTART:20250309T020000
TZOFFSETFROM:-0600
TZOFFSETTO:-0500
RDATE:20260308T020000
RDATE:20270314T020000
END:DAYLIGHT
END:VTIMEZONE
BEGIN:VEVENT
UID:b8a63bde-a735-45fe-bca1-a866ee56c60d
DTSTAMP:20260421T232056Z
DESCRIPTION:
DTSTART;TZID=America/Chicago:20250928T050000
DTEND;TZID=America/Chicago:20250928T050001
LOCATION:
SUMMARY:Step Up for Down Syndrome Walk and Family Festival
END:VEVENT
END:VCALENDAR
