BEGIN:VCALENDAR
VERSION:2.0
PRODID:-//www.dsamidlands.org//NONSGML kigkonsult.se iCalcreator 2.30.10//
CALSCALE:GREGORIAN
METHOD:PUBLISH
UID:95e9866a-cb74-4103-b9c0-5ced94b4ad4c
X-WR-CALDESC:
X-WR-RELCALID:f813b3d40aa71d00d21c77870fa1f131
X-WR-TIMEZONE:America/Chicago
BEGIN:VTIMEZONE
TZID:America/Chicago
BEGIN:STANDARD
TZNAME:CST
DTSTART:20241103T020000
TZOFFSETFROM:-0500
TZOFFSETTO:-0600
RDATE:20251102T020000
RDATE:20261101T020000
END:STANDARD
BEGIN:DAYLIGHT
TZNAME:CDT
DTSTART:20250309T020000
TZOFFSETFROM:-0600
TZOFFSETTO:-0500
RDATE:20260308T020000
RDATE:20270314T020000
END:DAYLIGHT
END:VTIMEZONE
BEGIN:VEVENT
UID:6f71c817-2477-4afc-a8de-7fb6f5701b95
DTSTAMP:20260421T231648Z
DESCRIPTION:
DTSTART;TZID=America/Chicago:20250925T100000
DTEND;TZID=America/Chicago:20250925T160000
LOCATION:10824 Old Mill Road\, Suite 8\, Omaha\, NE 68154 US
SUMMARY:Step Up Team Captain T-Shirt Pick Up
END:VEVENT
END:VCALENDAR
