BEGIN:VCALENDAR
VERSION:2.0
PRODID:-//www.dsamidlands.org//NONSGML kigkonsult.se iCalcreator 2.30.10//
CALSCALE:GREGORIAN
METHOD:PUBLISH
UID:1a17167a-a804-4d6c-ac05-4984c837523a
X-WR-CALDESC:
X-WR-RELCALID:35803b2eb7d12a53c88eb9042b3c1f42
X-WR-TIMEZONE:America/Chicago
BEGIN:VTIMEZONE
TZID:America/Chicago
BEGIN:STANDARD
TZNAME:CST
DTSTART:20241103T020000
TZOFFSETFROM:-0500
TZOFFSETTO:-0600
RDATE:20251102T020000
RDATE:20261101T020000
END:STANDARD
BEGIN:DAYLIGHT
TZNAME:CDT
DTSTART:20250309T020000
TZOFFSETFROM:-0600
TZOFFSETTO:-0500
RDATE:20260308T020000
RDATE:20270314T020000
END:DAYLIGHT
END:VTIMEZONE
BEGIN:VEVENT
UID:380f62da-3249-4d9c-8dbc-c9971b1b39b9
DTSTAMP:20260421T231612Z
DESCRIPTION:
DTSTART;TZID=America/Chicago:20250924T100000
DTEND;TZID=America/Chicago:20250924T160000
LOCATION:10824 Old Mill Road\, Suite 8\, Omaha\, NE 68154 US
SUMMARY:Step Up Team Captain T-Shirt Pick Up
END:VEVENT
END:VCALENDAR
