BEGIN:VCALENDAR
VERSION:2.0
PRODID:-//www.dsamidlands.org//NONSGML kigkonsult.se iCalcreator 2.30.10//
CALSCALE:GREGORIAN
METHOD:PUBLISH
UID:e188a0d4-16bd-449a-a0d8-35027101c4f1
X-WR-CALDESC:
X-WR-RELCALID:3b65befec236cfd51136b47c934ebfd1
X-WR-TIMEZONE:America/Chicago
BEGIN:VTIMEZONE
TZID:America/Chicago
BEGIN:STANDARD
TZNAME:CST
DTSTART:20241103T020000
TZOFFSETFROM:-0500
TZOFFSETTO:-0600
RDATE:20251102T020000
RDATE:20261101T020000
END:STANDARD
BEGIN:DAYLIGHT
TZNAME:CDT
DTSTART:20250309T020000
TZOFFSETFROM:-0600
TZOFFSETTO:-0500
RDATE:20260308T020000
RDATE:20270314T020000
END:DAYLIGHT
END:VTIMEZONE
BEGIN:VEVENT
UID:cc7c8cee-4084-4223-b5a5-99a0a789af7d
DTSTAMP:20260421T231612Z
DESCRIPTION:
DTSTART;TZID=America/Chicago:20250923T100000
DTEND;TZID=America/Chicago:20250923T160000
LOCATION:10824 Old Mill Road\, Suite 8\, Omaha\, NE 68154 US
SUMMARY:Step Up Team Captain T-Shirt Pick Up
END:VEVENT
END:VCALENDAR
