BEGIN:VCALENDAR
VERSION:2.0
PRODID:-//www.dsamidlands.org//NONSGML kigkonsult.se iCalcreator 2.30.10//
CALSCALE:GREGORIAN
METHOD:PUBLISH
UID:9b5ae7ed-7457-4508-b548-0778ccb91d60
X-WR-CALDESC:Don't miss out on Drumming for Wellness for Teens and Adults w
 ith Down syndrome Fall Session! Register for this 8 week drumming experien
 ce being held at DSA. Cost for the class is $180.00 for the 8 week session
 .
X-WR-RELCALID:e0462a063dca99f8a0ac31af7f867b8b
X-WR-TIMEZONE:America/Chicago
BEGIN:VTIMEZONE
TZID:America/Chicago
BEGIN:STANDARD
TZNAME:CST
DTSTART:20241103T020000
TZOFFSETFROM:-0500
TZOFFSETTO:-0600
RDATE:20251102T020000
RDATE:20261101T020000
END:STANDARD
BEGIN:DAYLIGHT
TZNAME:CDT
DTSTART:20250309T020000
TZOFFSETFROM:-0600
TZOFFSETTO:-0500
RDATE:20260308T020000
RDATE:20270314T020000
END:DAYLIGHT
END:VTIMEZONE
BEGIN:VEVENT
UID:19bf52cd-5c32-4cae-9859-102fe23a4c35
DTSTAMP:20260421T231648Z
DESCRIPTION:Don't miss out on Drumming for Wellness for Teens and Adults wi
 th Down syndrome Fall Session! Register for this 8 week drumming experienc
 e being held at DSA. Cost for the class is $180.00 for the 8 week session.
DTSTART;TZID=America/Chicago:20250922T180000
DTEND;TZID=America/Chicago:20250922T190000
LOCATION:https://secure.lglforms.com/form_engine/s/wN9kbjq5LhboHxepaHaurA
SUMMARY:Drumming for Wellness Teens and Adults Fall Session
END:VEVENT
END:VCALENDAR
