BEGIN:VCALENDAR
VERSION:2.0
PRODID:-//www.dsamidlands.org//NONSGML kigkonsult.se iCalcreator 2.30.10//
CALSCALE:GREGORIAN
METHOD:PUBLISH
UID:abf7a6dc-8450-4044-b586-3784e1fc4358
X-WR-CALDESC:Don't miss out on Drumming for Wellness for Teens and Adults w
 ith Down syndrome Fall Session! Register for this 8 week drumming experien
 ce being held at DSA. Cost for the class is $180.00 for the 8 week session
 .
X-WR-RELCALID:ed517d81ebd1a4781defd1c6266cc689
X-WR-TIMEZONE:America/Chicago
BEGIN:VTIMEZONE
TZID:America/Chicago
BEGIN:STANDARD
TZNAME:CST
DTSTART:20241103T020000
TZOFFSETFROM:-0500
TZOFFSETTO:-0600
RDATE:20251102T020000
RDATE:20261101T020000
END:STANDARD
BEGIN:DAYLIGHT
TZNAME:CDT
DTSTART:20250309T020000
TZOFFSETFROM:-0600
TZOFFSETTO:-0500
RDATE:20260308T020000
RDATE:20270314T020000
END:DAYLIGHT
END:VTIMEZONE
BEGIN:VEVENT
UID:b57aa1ec-1672-4395-a91b-d79efb3098fb
DTSTAMP:20260421T231731Z
DESCRIPTION:Don't miss out on Drumming for Wellness for Teens and Adults wi
 th Down syndrome Fall Session! Register for this 8 week drumming experienc
 e being held at DSA. Cost for the class is $180.00 for the 8 week session.
DTSTART;TZID=America/Chicago:20250915T180000
DTEND;TZID=America/Chicago:20250915T190000
LOCATION:https://secure.lglforms.com/form_engine/s/wN9kbjq5LhboHxepaHaurA
SUMMARY:Drumming for Wellness Teens and Adults Fall Session
END:VEVENT
END:VCALENDAR
