BEGIN:VCALENDAR
VERSION:2.0
PRODID:-//www.dsamidlands.org//NONSGML kigkonsult.se iCalcreator 2.30.10//
CALSCALE:GREGORIAN
METHOD:PUBLISH
UID:e978cde1-a1de-4304-82e0-56cb900fc647
X-WR-CALDESC:\n\nFiestas Patrias Parade\nSábado\, 13 de septiembre \nLa hor
 a de formación es de 9:45a 10:45 a.m. para comenzar a las 11am\nnos reunim
 os en la clle 20&M
X-WR-RELCALID:7d4110654e18aa91e7acb6d95acb7d7f
X-WR-TIMEZONE:America/Chicago
BEGIN:VTIMEZONE
TZID:America/Chicago
BEGIN:STANDARD
TZNAME:CST
DTSTART:20241103T020000
TZOFFSETFROM:-0500
TZOFFSETTO:-0600
RDATE:20251102T020000
RDATE:20261101T020000
END:STANDARD
BEGIN:DAYLIGHT
TZNAME:CDT
DTSTART:20250309T020000
TZOFFSETFROM:-0600
TZOFFSETTO:-0500
RDATE:20260308T020000
RDATE:20270314T020000
END:DAYLIGHT
END:VTIMEZONE
BEGIN:VEVENT
UID:f0b4ced3-9801-4cc3-9a89-beb095fa7675
DTSTAMP:20260421T232056Z
DESCRIPTION:\n\nFiestas Patrias Parade\nSábado\, 13 de septiembre \nLa hora
  de formación es de 9:45a 10:45 a.m. para comenzar a las 11am\nnos reunimo
 s en la clle 20&M
DTSTART;TZID=America/Chicago:20250913T050000
DTEND;TZID=America/Chicago:20250913T050001
LOCATION:https://secure.lglforms.com/form_engine/s/_Bq5TcXKIV-dOuIH51lSsw
SUMMARY:Parade Fiestas Patrias/ Desfile Fechas patrias
END:VEVENT
END:VCALENDAR
