BEGIN:VCALENDAR
VERSION:2.0
PRODID:-//www.dsamidlands.org//NONSGML kigkonsult.se iCalcreator 2.30.10//
CALSCALE:GREGORIAN
METHOD:PUBLISH
UID:6e2b64fc-973f-4cd0-886a-b101549f7815
X-WR-CALDESC:Kids Connect for members  3rd-5th Grade.  Come play\, meet new
  friends\, and enjoy pizza!
X-WR-RELCALID:7b62d96098079425fb0014e659ba302f
X-WR-TIMEZONE:America/Chicago
BEGIN:VTIMEZONE
TZID:America/Chicago
BEGIN:STANDARD
TZNAME:CST
DTSTART:20241103T020000
TZOFFSETFROM:-0500
TZOFFSETTO:-0600
RDATE:20251102T020000
RDATE:20261101T020000
END:STANDARD
BEGIN:DAYLIGHT
TZNAME:CDT
DTSTART:20250309T020000
TZOFFSETFROM:-0600
TZOFFSETTO:-0500
RDATE:20260308T020000
END:DAYLIGHT
END:VTIMEZONE
BEGIN:VEVENT
UID:5e494890-4c84-424b-866e-78e62a6f6bd3
DTSTAMP:20260421T231519Z
DESCRIPTION:Kids Connect for members  3rd-5th Grade.  Come play\, meet new 
 friends\, and enjoy pizza!
DTSTART;TZID=America/Chicago:20250910T173000
DTEND;TZID=America/Chicago:20250910T190000
LOCATION:https://secure.lglforms.com/form_engine/s/1gn-gnfg1Q2hH-laIJDJ8A
SUMMARY:Kids Connect 3rd-5th Grade - CANCELED
END:VEVENT
END:VCALENDAR
