BEGIN:VCALENDAR
VERSION:2.0
PRODID:-//www.dsamidlands.org//NONSGML kigkonsult.se iCalcreator 2.30.10//
CALSCALE:GREGORIAN
METHOD:PUBLISH
UID:ac817832-639a-488d-91d9-7eeeb1d49187
X-WR-CALDESC:Join us at DSA Moms Coffee Connections at the DSA office from 
 9:30-11:00 a.m. We can't wait to see you!
X-WR-RELCALID:ac829837ff13b5ebf8b7dbb07647e544
X-WR-TIMEZONE:America/Chicago
BEGIN:VTIMEZONE
TZID:America/Chicago
BEGIN:STANDARD
TZNAME:CST
DTSTART:20241103T020000
TZOFFSETFROM:-0500
TZOFFSETTO:-0600
RDATE:20251102T020000
RDATE:20261101T020000
END:STANDARD
BEGIN:DAYLIGHT
TZNAME:CDT
DTSTART:20250309T020000
TZOFFSETFROM:-0600
TZOFFSETTO:-0500
RDATE:20260308T020000
END:DAYLIGHT
END:VTIMEZONE
BEGIN:VEVENT
UID:b9a3c14e-aa13-4c16-a426-67cbd18cc0fd
DTSTAMP:20260421T231444Z
DESCRIPTION:Join us at DSA Moms Coffee Connections at the DSA office from 9
 :30-11:00 a.m. We can't wait to see you!
DTSTART;TZID=America/Chicago:20250906T093000
DTEND;TZID=America/Chicago:20250906T110000
LOCATION:
SUMMARY:DSA Moms Coffee Connections
END:VEVENT
END:VCALENDAR
