BEGIN:VCALENDAR
VERSION:2.0
PRODID:-//www.dsamidlands.org//NONSGML kigkonsult.se iCalcreator 2.30.10//
CALSCALE:GREGORIAN
METHOD:PUBLISH
UID:5cf341dc-09a5-41f2-8c3e-7be2f95fb7d5
X-WR-CALDESC:
X-WR-RELCALID:8d17bef05ef2df611cf96d68b16967b7
X-WR-TIMEZONE:America/Chicago
BEGIN:VTIMEZONE
TZID:America/Chicago
BEGIN:STANDARD
TZNAME:CST
DTSTART:20241103T020000
TZOFFSETFROM:-0500
TZOFFSETTO:-0600
RDATE:20251102T020000
RDATE:20261101T020000
END:STANDARD
BEGIN:DAYLIGHT
TZNAME:CDT
DTSTART:20250309T020000
TZOFFSETFROM:-0600
TZOFFSETTO:-0500
RDATE:20260308T020000
END:DAYLIGHT
END:VTIMEZONE
BEGIN:VEVENT
UID:603ce318-58fa-4898-9e81-2f697735f865
DTSTAMP:20260421T231355Z
DESCRIPTION:
DTSTART;TZID=America/Chicago:20250901T050000
DTEND;TZID=America/Chicago:20250901T050001
LOCATION:
SUMMARY:Labor Day
END:VEVENT
END:VCALENDAR
