BEGIN:VCALENDAR
VERSION:2.0
PRODID:-//www.dsamidlands.org//NONSGML kigkonsult.se iCalcreator 2.30.10//
CALSCALE:GREGORIAN
METHOD:PUBLISH
UID:e9225ec4-d693-46d8-aa08-733caac80ce3
X-WR-CALDESC:Little Ones: A play group for families with children ages birt
 h through 3 years of age with Down syndrome. Join the fun for play\, learn
 ing\, and connection! The whole family is welcome!\nAugust 27th we will me
 et at the NEW accessible Playground at Zorinsky Lake at 3808 S 156th St
X-WR-RELCALID:3800375e19ce41224786f49531b227b2
X-WR-TIMEZONE:America/Chicago
BEGIN:VTIMEZONE
TZID:America/Chicago
BEGIN:STANDARD
TZNAME:CST
DTSTART:20241103T020000
TZOFFSETFROM:-0500
TZOFFSETTO:-0600
RDATE:20251102T020000
RDATE:20261101T020000
END:STANDARD
BEGIN:DAYLIGHT
TZNAME:CDT
DTSTART:20250309T020000
TZOFFSETFROM:-0600
TZOFFSETTO:-0500
RDATE:20260308T020000
END:DAYLIGHT
END:VTIMEZONE
BEGIN:VEVENT
UID:26299412-bc46-45fe-8459-33fd6e24f989
DTSTAMP:20260422T003835Z
DESCRIPTION:Little Ones: A play group for families with children ages birth
  through 3 years of age with Down syndrome. Join the fun for play\, learni
 ng\, and connection! The whole family is welcome!\nAugust 27th we will mee
 t at the NEW accessible Playground at Zorinsky Lake at 3808 S 156th St
DTSTART;TZID=America/Chicago:20250827T100000
DTEND;TZID=America/Chicago:20250827T110000
LOCATION:https://secure.lglforms.com/form_engine/s/-L5d8I-Mz7mnmM3sG61X6Q
SUMMARY:Little Ones Play Group  CANCELED
END:VEVENT
END:VCALENDAR
