BEGIN:VCALENDAR
VERSION:2.0
PRODID:-//www.dsamidlands.org//NONSGML kigkonsult.se iCalcreator 2.30.10//
CALSCALE:GREGORIAN
METHOD:PUBLISH
UID:c960b3e0-02e4-4729-b3a4-bac905169982
X-WR-CALDESC:
X-WR-RELCALID:90f9852fe1f58dce79ee6877b5ae5929
X-WR-TIMEZONE:America/Chicago
BEGIN:VTIMEZONE
TZID:America/Chicago
BEGIN:STANDARD
TZNAME:CST
DTSTART:20241103T020000
TZOFFSETFROM:-0500
TZOFFSETTO:-0600
RDATE:20251102T020000
RDATE:20261101T020000
END:STANDARD
BEGIN:DAYLIGHT
TZNAME:CDT
DTSTART:20250309T020000
TZOFFSETFROM:-0600
TZOFFSETTO:-0500
RDATE:20260308T020000
END:DAYLIGHT
END:VTIMEZONE
BEGIN:VEVENT
UID:f4ed7d9f-a52c-4b98-989c-7d5a93e19e0a
DTSTAMP:20260422T003638Z
DESCRIPTION:
DTSTART;TZID=America/Chicago:20250823T130000
DTEND;TZID=America/Chicago:20250823T150000
LOCATION:https://secure.lglforms.com/form_engine/s/4GnlE3yef23hvNgvNIpT7A
SUMMARY:Siblings Connect
END:VEVENT
END:VCALENDAR
