BEGIN:VCALENDAR
VERSION:2.0
PRODID:-//www.dsamidlands.org//NONSGML kigkonsult.se iCalcreator 2.30.10//
CALSCALE:GREGORIAN
METHOD:PUBLISH
UID:f8d3ab64-9eef-46ff-aa94-6c8cdaaef86d
X-WR-CALDESC:
X-WR-RELCALID:9122170828e78036a1bc6b8ae508d02a
X-WR-TIMEZONE:America/Chicago
BEGIN:VTIMEZONE
TZID:America/Chicago
BEGIN:STANDARD
TZNAME:CST
DTSTART:20241103T020000
TZOFFSETFROM:-0500
TZOFFSETTO:-0600
RDATE:20251102T020000
RDATE:20261101T020000
END:STANDARD
BEGIN:DAYLIGHT
TZNAME:CDT
DTSTART:20250309T020000
TZOFFSETFROM:-0600
TZOFFSETTO:-0500
RDATE:20260308T020000
END:DAYLIGHT
END:VTIMEZONE
BEGIN:VEVENT
UID:0a89fab8-71fe-4f9d-8c88-96d9faafe021
DTSTAMP:20260422T004013Z
DESCRIPTION:
DTSTART;TZID=America/Chicago:20250819T180000
DTEND;TZID=America/Chicago:20250819T200000
LOCATION:https://secure.lglforms.com/form_engine/s/Lve6g3n5xX2FgKJBKnHw9A?t
 =1754936692
SUMMARY:Down Syndrome Education Series (DSES)
END:VEVENT
END:VCALENDAR
