BEGIN:VCALENDAR
VERSION:2.0
PRODID:-//www.dsamidlands.org//NONSGML kigkonsult.se iCalcreator 2.30.10//
CALSCALE:GREGORIAN
METHOD:PUBLISH
UID:bcb76e8d-9aa5-4a5c-9f5b-c6acb392b34c
X-WR-CALDESC:This club is free to DSA members who are teens and adults. Mee
 ting instructions will be shared ahead of the event in individual emails.
X-WR-RELCALID:a6c0d88b852b8d7d26469c13139d3143
X-WR-TIMEZONE:America/Chicago
BEGIN:VTIMEZONE
TZID:America/Chicago
BEGIN:STANDARD
TZNAME:CST
DTSTART:20241103T020000
TZOFFSETFROM:-0500
TZOFFSETTO:-0600
RDATE:20251102T020000
RDATE:20261101T020000
END:STANDARD
BEGIN:DAYLIGHT
TZNAME:CDT
DTSTART:20250309T020000
TZOFFSETFROM:-0600
TZOFFSETTO:-0500
RDATE:20260308T020000
END:DAYLIGHT
END:VTIMEZONE
BEGIN:VEVENT
UID:3e7179dc-6b0f-4ea7-82e2-5c0067723bcc
DTSTAMP:20260422T004305Z
DESCRIPTION:This club is free to DSA members who are teens and adults. Meet
 ing instructions will be shared ahead of the event in individual emails.
DTSTART;TZID=America/Chicago:20250814T170000
DTEND;TZID=America/Chicago:20250814T180000
LOCATION:https://secure.lglforms.com/form_engine/s/LYWk_EmJG_EUza-95feLjw
SUMMARY:Walking/Running Club - Teens/Adults
END:VEVENT
END:VCALENDAR
