BEGIN:VCALENDAR
VERSION:2.0
PRODID:-//www.dsamidlands.org//NONSGML kigkonsult.se iCalcreator 2.30.10//
CALSCALE:GREGORIAN
METHOD:PUBLISH
UID:46e2769b-ee57-4268-b905-970be34c2965
X-WR-CALDESC:
X-WR-RELCALID:032ed9d0a0695d98d4fbb9e0188be5f3
X-WR-TIMEZONE:America/Chicago
BEGIN:VTIMEZONE
TZID:America/Chicago
BEGIN:STANDARD
TZNAME:CST
DTSTART:20241103T020000
TZOFFSETFROM:-0500
TZOFFSETTO:-0600
RDATE:20251102T020000
RDATE:20261101T020000
END:STANDARD
BEGIN:DAYLIGHT
TZNAME:CDT
DTSTART:20250309T020000
TZOFFSETFROM:-0600
TZOFFSETTO:-0500
RDATE:20260308T020000
END:DAYLIGHT
END:VTIMEZONE
BEGIN:VEVENT
UID:ae2da0ce-149a-42a5-848b-a5795feee12a
DTSTAMP:20260422T005309Z
DESCRIPTION:
DTSTART;TZID=America/Chicago:20250812T163000
DTEND;TZID=America/Chicago:20250812T173000
LOCATION:
SUMMARY:Circles (Ages 12-18) - POSTPONED
END:VEVENT
END:VCALENDAR
