BEGIN:VCALENDAR
VERSION:2.0
PRODID:-//www.dsamidlands.org//NONSGML kigkonsult.se iCalcreator 2.30.10//
CALSCALE:GREGORIAN
METHOD:PUBLISH
UID:42c031c2-a9ac-4fc6-8dd9-45b3a0c95ebe
X-WR-CALDESC:Join DSA Moms for Coffee Connections the second Saturday of th
 e month from 9:30-11:00. Coffee location will be shared ahead of time on t
 he Moms Facebook Page and on the calendar.
X-WR-RELCALID:f607621b644f1879174b7f5c0120772b
X-WR-TIMEZONE:America/Chicago
BEGIN:VTIMEZONE
TZID:America/Chicago
BEGIN:STANDARD
TZNAME:CST
DTSTART:20241103T020000
TZOFFSETFROM:-0500
TZOFFSETTO:-0600
RDATE:20251102T020000
RDATE:20261101T020000
END:STANDARD
BEGIN:DAYLIGHT
TZNAME:CDT
DTSTART:20250309T020000
TZOFFSETFROM:-0600
TZOFFSETTO:-0500
RDATE:20260308T020000
END:DAYLIGHT
END:VTIMEZONE
BEGIN:VEVENT
UID:ca2a1903-874b-4acf-abd5-eaba7df1f219
DTSTAMP:20260422T003721Z
DESCRIPTION:Join DSA Moms for Coffee Connections the second Saturday of the
  month from 9:30-11:00. Coffee location will be shared ahead of time on th
 e Moms Facebook Page and on the calendar.
DTSTART;TZID=America/Chicago:20250809T093000
DTEND;TZID=America/Chicago:20250809T110000
LOCATION:
SUMMARY:DSA Moms Coffee Connections
END:VEVENT
END:VCALENDAR
