BEGIN:VCALENDAR
VERSION:2.0
PRODID:-//www.dsamidlands.org//NONSGML kigkonsult.se iCalcreator 2.30.10//
CALSCALE:GREGORIAN
METHOD:PUBLISH
UID:ea0076c8-9a9f-4f4f-a654-01c3ded1a155
X-WR-CALDESC:
X-WR-RELCALID:221e191948e4bbe2b3287def0a11f896
X-WR-TIMEZONE:America/Chicago
BEGIN:VTIMEZONE
TZID:America/Chicago
BEGIN:STANDARD
TZNAME:CST
DTSTART:20241103T020000
TZOFFSETFROM:-0500
TZOFFSETTO:-0600
RDATE:20251102T020000
RDATE:20261101T020000
END:STANDARD
BEGIN:DAYLIGHT
TZNAME:CDT
DTSTART:20250309T020000
TZOFFSETFROM:-0600
TZOFFSETTO:-0500
RDATE:20260308T020000
END:DAYLIGHT
END:VTIMEZONE
BEGIN:VEVENT
UID:89e35931-83b6-487e-8b77-c2093d5936dc
DTSTAMP:20260422T004005Z
DESCRIPTION:
DTSTART;TZID=America/Chicago:20250805T163000
DTEND;TZID=America/Chicago:20250805T173000
LOCATION:
SUMMARY:Circles (Ages 12-18) - POSTPONED
END:VEVENT
END:VCALENDAR
